BEGIN:VCALENDAR
VERSION:2.0
PRODID:-//ChamberMaster//Event Calendar 2.0//EN
METHOD:PUBLISH
X-PUBLISHED-TTL:P3D
REFRESH-INTERVAL:P3D
CALSCALE:GREGORIAN
BEGIN:VEVENT
DTSTART:20231206T150000Z
DTEND:20231206T160000Z
X-MICROSOFT-CDO-ALLDAYEVENT:FALSE
SUMMARY:CEBA Loan Forgiveness Webinar with MNP
DESCRIPTION:Secure the financial future of your business.\n\n\n\nThe repayment deadline for Canada Emergency Business Account (CEBA) loans is the end of the year\, with an option for partial forgiveness/extension due Jan 18\, 2024. Unpaid loans beyond that will be subject to interest and must be repaid by Dec 31\, 2026.\n\n\n\nJoin MNP as they provide more details\, and advice about how to find liquidity in your business to fund this repayment\, and how to proactively solve future liquidity challenges that will disrupt your business.
X-ALT-DESC;FMTTYPE=text/html:<p style="box-sizing: border-box\; margin: 0px 0px 10px\; padding: 0px 0px 1em\; border: 0px\; outline: 0px\; background-image: initial\; background-position: 0px 0px\; background-size: initial\; background-repeat: initial\; background-attachment: initial\; background-origin: initial\; background-clip: initial\; font-size: 14px\; vertical-align: baseline\; text-size-adjust: 100%\; line-height: 1.5em\; color: rgb(80\, 80\, 80)\; font-family: Arial\, Helvetica\, Arial\, Lucida\, sans-serif\;"><span style="color:#000000\;"><span style="font-size:14px\;"><span style="font-family:arial\;">Secure the financial future of your business.<br />\n<br />\nThe repayment deadline for Canada Emergency Business Account (CEBA) loans is the end of the year\, with an option for partial forgiveness/extension due Jan 18\, 2024. Unpaid loans beyond that will be subject to interest and must be repaid by Dec 31\, 2026.<br />\n<br />\nJoin MNP as they provide more details\, and advice about how to find liquidity in your business to fund this repayment\, and how to proactively solve future liquidity challenges that will disrupt your business.</span></span></span></p>\n
LOCATION:Webinar
UID:e.2542.3489
SEQUENCE:3
DTSTAMP:20260421T040705Z
URL:http://business.tbchamber.ca/events/details/ceba-loan-forgiveness-webinar-with-mnp-3489
END:VEVENT

END:VCALENDAR
