BEGIN:VCALENDAR
VERSION:2.0
PRODID:-//ChamberMaster//Event Calendar 2.0//EN
METHOD:PUBLISH
X-PUBLISHED-TTL:P3D
REFRESH-INTERVAL:P3D
CALSCALE:GREGORIAN
BEGIN:VEVENT
DTSTART:20220111T150000Z
DTEND:20220111T160000Z
X-MICROSOFT-CDO-ALLDAYEVENT:FALSE
SUMMARY:Work Well Live Well - January 11\, 2022 - Leaning into Change
DESCRIPTION:Work Well. Live Well.\n\nCynthia Green ~ Resilience. Mindfulness. Wellness.\n\n \n\nTuesday\, January 11 | 10am\n\nLeaning into Change: The word that instills a sense of uncertainty each time we hear it's coming. The only thing that stays the same is that everything changes\, and yet we resist the inevitable. In this session we will explore the stages of change\, build awareness of habitual tendencies\, and how to make incremental changes in behaviour to navigate the ever-changing landscape of life.
X-ALT-DESC;FMTTYPE=text/html:<span style="font-size:12px\;"><span style="font-family:arial\;"><span style="font-size:14px\;"><strong><span style="color:#44A921\;">Work Well. Live Well.</span></strong><br />\n<strong><span style="color:#00B050\;">Cynthia Green ~ Resilience. Mindfulness. Wellness.</span></strong></span><br />\n&nbsp\;<br />\n<strong>Tuesday\, January 11 | 10am</strong><br />\n<strong>Leaning into Change: </strong>The word that instills a sense of uncertainty each time we hear it&rsquo\;s coming. The only thing that stays the same is that everything changes\, and yet we resist the inevitable. In this session we will explore the stages of change\, build awareness of habitual tendencies\, and how to make incremental changes in behaviour to navigate the ever-changing landscape of life.</span></span>
LOCATION:Virtual Meeting
UID:e.2542.3374
SEQUENCE:3
DTSTAMP:20260420T144036Z
URL:http://business.tbchamber.ca/events/details/work-well-live-well-january-11-2022-leaning-into-change-3374
END:VEVENT

END:VCALENDAR
