BEGIN:VCALENDAR
VERSION:2.0
PRODID:-//ChamberMaster//Event Calendar 2.0//EN
METHOD:PUBLISH
X-PUBLISHED-TTL:P3D
REFRESH-INTERVAL:P3D
CALSCALE:GREGORIAN
BEGIN:VEVENT
DTSTART;VALUE=DATE:20211201
DTEND;VALUE=DATE:20211209
TRANSP:TRANSPARENT
X-MICROSOFT-CDO-ALLDAYEVENT:TRUE
SUMMARY:100 People Who Care 2021: Fourth Quarter (December) Funding Round
DESCRIPTION:100 People Who Care Thunder Bay is a fundraising group with a goal of raising $10\,000 for a grassroots Thunder Bay charity/program every quarter.\n\n\n\nHow does it work? \n\n	Every quarter\, participants each chip in $100 to a funding pool. \n	Participants nominate\, discuss and vote for a single charity to receive the quarterly pool. \n	Nominations and discussion take place in the TBay 100 People Facebook Group. You must be a registered participant to be part of the Group. \n	Optional get-togethers every three months let you connect with other participants while we catch up with the last quarter's charity\, finalize voting and announce the next recipient. \n	100% of all the funds raised are contributed to the charity selected by the group.
X-ALT-DESC;FMTTYPE=text/html:<span style="color: rgb(169\, 169\, 169)\;"><span style="font-size: 14px\;">100 People Who Care Thunder Bay is a fundraising group with a goal of raising $10\,000 for a grassroots Thunder Bay charity/program every quarter.<br />\n<br />\n<span style="font-size: 16px\;"><strong>How does it work? </strong></span></span></span>\n<ul>\n	<li><span style="color: rgb(169\, 169\, 169)\;"><span style="font-size: 14px\;">Every quarter\, participants each chip in $100 to a funding pool. </span></span></li>\n	<li><span style="color: rgb(169\, 169\, 169)\;"><span style="font-size: 14px\;">Participants nominate\, discuss and vote for a single charity to receive the quarterly pool. </span></span></li>\n	<li><span style="color: rgb(169\, 169\, 169)\;"><span style="font-size: 14px\;">Nominations and discussion take place in the TBay 100 People <a href="https://www.facebook.com/groups/tbay100">Facebook Group</a>. You must be a registered participant to be part of the Group. </span></span></li>\n	<li><span style="color: rgb(169\, 169\, 169)\;"><span style="font-size: 14px\;">Optional get-togethers every three months let you connect with other participants while we catch up with the last quarter&rsquo\;s charity\, finalize voting and announce the next recipient. </span></span></li>\n	<li><span style="color: rgb(169\, 169\, 169)\;"><span style="font-size: 14px\;">100% of all the funds raised are contributed to the charity selected by the group.</span></span></li>\n</ul>\n
LOCATION:
UID:e.2542.3348
SEQUENCE:3
DTSTAMP:20260422T155330Z
URL:https://business.tbchamber.ca/events/details/100-people-who-care-2021-fourth-quarter-december-funding-round-3348
END:VEVENT

END:VCALENDAR
