BEGIN:VCALENDAR
VERSION:2.0
PRODID:-//ChamberMaster//Event Calendar 2.0//EN
METHOD:PUBLISH
X-PUBLISHED-TTL:P3D
REFRESH-INTERVAL:P3D
CALSCALE:GREGORIAN
BEGIN:VEVENT
DTSTART:20221028T121500Z
DTEND:20221028T160000Z
X-MICROSOFT-CDO-ALLDAYEVENT:FALSE
SUMMARY:2022 October Leadercast: The One Thing
DESCRIPTION:Leadercast participants walk away inspired\, better equipped\, and motivated to lead in new ways. \n\n	Motivating: Be inspired by leaders from the worlds of business\, sports\, and entertainment\n	Perspective-Shifting: Hear insights from stellar communicators\, teachers\, and authors\n	Tangible: Real world takeaways you can apply right away.
X-ALT-DESC;FMTTYPE=text/html:<span style="font-weight: 400\;">Leadercast participants walk away inspired\, better equipped\, and motivated to lead in new ways. </span>\n<ul>\n	<li>Motivating: Be inspired by leaders from the worlds of business\, sports\, and entertainment</li>\n	<li>Perspective-Shifting: Hear insights from stellar communicators\, teachers\, and authors</li>\n	<li>Tangible: Real world takeaways you can apply right away.</li>\n</ul>\n
LOCATION:Valhalla Inn 1 Valhalla Inn Road\, Thunder Bay\, ON
UID:e.2542.3424
SEQUENCE:3
DTSTAMP:20260420T042502Z
URL:https://business.tbchamber.ca/events/details/2022-october-leadercast-the-one-thing-3424
END:VEVENT

END:VCALENDAR
